BEGIN:VCALENDAR
VERSION:2.0
CALSCALE:GREGORIAN
PRODID:-//Diputació de Barcelona//DibaCMS//EN
BEGIN:VEVENT
UID:15998
DTSTAMP:20260422T013049
DTSTART:20230604T190000
DTEND:20230604T200000
SUMMARY:Concert de la Coral Cants i Rialles
LOCATION:
METHOD:PUBLISH
X-WR-CALNAME:sjv.info@vilatorta.cat
X-WR-TIMEZONE:Europe/Madrid
DESCRIPTION:Degut a la previsió de pluja pel diumenge a la tarda, el concert de la Coral Cants i Rialles, previst a les 7 de la tarda a la plaça de Catalunya, es farà finalment al Saló Catalunya.

URI:https://www.vilatorta.cat/temes/turisme-/concert-de-la-coral-cants-i-rialles.html
CLASS:PUBLIC
END:VEVENT
END:VCALENDAR
