BEGIN:VCALENDAR
VERSION:2.0
CALSCALE:GREGORIAN
PRODID:-//Diputació de Barcelona//DibaCMS//EN
BEGIN:VEVENT
UID:16011
DTSTAMP:20260422T063618
DTSTART:20230623T201500
DTEND:20230623T230000
SUMMARY:Arriba la Flama del Canigó
LOCATION:Vilalleons (a lcostat de l'estació meteorològica)
Sant Julià de Vilatoreta (darrera el pavelló) 
METHOD:PUBLISH
X-WR-CALNAME:sjv.info@vilatorta.cat
X-WR-TIMEZONE:Europe/Madrid
DESCRIPTION:La Flama del Canigó arriba a Sant Julià de Vilatorta i Vilalleons. Celebrem plegats la diada dels Països Catalans. Bona revetlla!

URI:https://www.vilatorta.cat/temes/turisme-/16011-arriba-la-flama-del-canigo.html
CLASS:PUBLIC
END:VEVENT
END:VCALENDAR
