BEGIN:VCALENDAR
VERSION:2.0
CALSCALE:GREGORIAN
PRODID:-//Diputació de Barcelona//DibaCMS//EN
BEGIN:VEVENT
UID:16031
DTSTAMP:20260422T025238
DTSTART:20230702T190000
DTEND:20230702T200000
SUMMARY:Concert benèfic contra el càncer
LOCATION:plaça de Catalunya 
METHOD:PUBLISH
X-WR-CALNAME:sjv.info@vilatorta.cat
X-WR-TIMEZONE:Europe/Madrid
DESCRIPTION:El 2 de juliol, a les 7 de la tarda, a la plaça de Catalunya, concert benèfic contra el càncer. Amb l'actuació de la Coral Cantis i Rialles, Letfsiders amb Josep Maria Villegas i Males Arts amb Lluc Bover. Les donacions recaptades aniran a l’Associació Osona Contra el Càncer.

URI:https://www.vilatorta.cat/temes/turisme-/concert-benefic-contra-el-cancer.html
CLASS:PUBLIC
END:VEVENT
END:VCALENDAR
