BEGIN:VCALENDAR
VERSION:2.0
CALSCALE:GREGORIAN
PRODID:-//Diputació de Barcelona//DibaCMS//EN
BEGIN:VEVENT
UID:16068
DTSTAMP:20260422T063710
DTSTART:20230722T173000
DTEND:20230722T190000
SUMMARY:Jocs de fusta gegants per a les famílies [Festa Major 2023]
LOCATION:Rambla del Castell, s/n 08504 Sant Julià de Vilatorta
METHOD:PUBLISH
X-WR-CALNAME:sjv.info@vilatorta.cat
X-WR-TIMEZONE:Europe/Madrid
DESCRIPTION:Dissabte 22, a 2/4 de 6 de la tarda, al pac de les Set Fonts, vine a provar els jocs de fusta gegants per a famílies i descobreix un espai lúdic de joc comunitari, adaptat a totes les edats.

URI:https://www.vilatorta.cat/temes/turisme-/jocs-de-fusta-gegants-per-a-les-families-festa-major-2023.html
CLASS:PUBLIC
END:VEVENT
END:VCALENDAR
