BEGIN:VCALENDAR
VERSION:2.0
CALSCALE:GREGORIAN
PRODID:-//Diputació de Barcelona//DibaCMS//EN
BEGIN:VEVENT
UID:16070
DTSTAMP:20260422T031509
DTSTART:20230722T223000
DTEND:20230722T235500
SUMMARY:Actuació de Dalton Bang [Festa Major 2023]
LOCATION:
METHOD:PUBLISH
X-WR-CALNAME:sjv.info@vilatorta.cat
X-WR-TIMEZONE:Europe/Madrid
DESCRIPTION:Dissabte 22, a 2/4 d'11 de la nit, a la zona esportiva, actuació de Dalton Bang.

URI:https://www.vilatorta.cat/temes/turisme-/actuacio-de-dalton-bang-festa-major-2023.html
CLASS:PUBLIC
END:VEVENT
END:VCALENDAR
