BEGIN:VCALENDAR
VERSION:2.0
CALSCALE:GREGORIAN
PRODID:-//Diputació de Barcelona//DibaCMS//EN
BEGIN:VEVENT
UID:16138
DTSTAMP:20260422T063832
DTSTART:20231116T083000
DTEND:20231116T140000
SUMMARY:Talls de llum dijous 16 de novembre
LOCATION:AV/ JAUME BALMES (DE) n° 27 , 29 , 33 , 33 A, 34 , 35 , 35 A, 36 , 37 , 37 A, 38 , 40 , 42 , 42 *, 42 A, 44  
AV/ NOSTRA SENYORA DE MONTSERRAT n° 1 , 1 A, 1 B, 1 C, 1 D, 12 , 16 A, 3 , 5 , 54 , 6 , 7 , 8 
AV/ PUIG I CUNYER n° 0 S/N, 12 , 12 A, 2 , 3 , 4 , 4 A, 4 B, 7 , 7 A, 9  
C/ CALLDETENES n° 1 , 1 BOBR, 3 
C/ RAMBLETA n° 4 , 6  
PS/ DE MOSSEN CINTO VERDAGUER n° 1 , 10 , 2 , 3 , 3 A, 4 , 6 , 8 
 
METHOD:PUBLISH
X-WR-CALNAME:sjv.info@vilatorta.cat
X-WR-TIMEZONE:Europe/Madrid
DESCRIPTION:EDISTRIBUCIÓN informa que, per incrementar la qualitat del servei elèctric, realitzarà uns treballs de manteniment i millora a la xarxa de distribució. Per aquest motiu, es veuen obligats a interrompre temporalment el subministrament d´energia elèctrica el dijous 16 de novembre, de 2/4 de 9 del matí a les 2 de la tarda. 

URI:https://www.vilatorta.cat/actualitat/agenda/talls-de-llum-dijous-16-de-novembre.html
CLASS:PUBLIC
END:VEVENT
END:VCALENDAR
