BEGIN:VCALENDAR
VERSION:2.0
CALSCALE:GREGORIAN
PRODID:-//Diputació de Barcelona//DibaCMS//EN
BEGIN:VEVENT
UID:16188
DTSTAMP:20260422T062101
DTSTART:20231020T184500
DTEND:20231020T200000
SUMMARY:Taller de ioga en parella
LOCATION:Carrer de Núria, 17 08504 Sant Julià de Vilatorta
METHOD:PUBLISH
X-WR-CALNAME:sjv.info@vilatorta.cat
X-WR-TIMEZONE:Europe/Madrid
DESCRIPTION:El divendres 20 d'octubre, a 3/4 de 7 de la tarda, l'Espaikāya organitza un taller de ioga en parella. Amb aquesta pràctica cultivem els beneficis del ioga i afegim el contacte corporal i la interacció amb la nostra parella. És una bona manera de buscar l’enllaç afectiu i energètic amb una altra persona integrant elements com el riure, la fluïdesa, la tranquil·litat i l’acceptació.

URI:https://www.vilatorta.cat/actualitat/agenda/taller-de-ioga-en-parella.html
CLASS:PUBLIC
END:VEVENT
END:VCALENDAR
