BEGIN:VCALENDAR
VERSION:2.0
CALSCALE:GREGORIAN
PRODID:-//Diputació de Barcelona//DibaCMS//EN
BEGIN:VEVENT
UID:16212
DTSTAMP:20260422T062244
DTSTART:20231103T183000
DTEND:20231103T200000
SUMMARY:Taller: Les bases de la gimnàstica abdominal hipopressiva a l’espaikāya
LOCATION:Carrer de Núria, 17 08504 Sant Julià de Vilatorta
METHOD:PUBLISH
X-WR-CALNAME:sjv.info@vilatorta.cat
X-WR-TIMEZONE:Europe/Madrid
DESCRIPTION:El taller es farà el divendres 3 de novembre, de 2/4 de 7 de la tarda a les 8 del vespre, a l’ espaikāya, sala de Yoga & Mindfulness. Facilita Mònica Folgarolas, fisioterapeuta especialitzada en sol pelvià i practicant de ioga. Inscripcions tancades, el taller ja està ple.

URI:https://www.vilatorta.cat/actualitat/agenda/taller-les-bases-de-la-gimnastica-abdominal-hipopressiva-a-lespaikya.html
CLASS:PUBLIC
END:VEVENT
END:VCALENDAR
