BEGIN:VCALENDAR
VERSION:2.0
CALSCALE:GREGORIAN
PRODID:-//Diputació de Barcelona//DibaCMS//EN
BEGIN:VEVENT
UID:16219
DTSTAMP:20260422T063815
DTSTART:20231118T180000
DTEND:20231118T190000
SUMMARY:La Joglaressa. Taller d'instruments medievals a Sant Julià de Vilatorta. Viu el Parc 2023
LOCATION:Avinguda de Sant Llorenç, 80 08504 Sant Julià de Vilatorta
METHOD:PUBLISH
X-WR-CALNAME:sjv.info@vilatorta.cat
X-WR-TIMEZONE:Europe/Madrid
DESCRIPTION:Partint de la música, aquest taller va més enllà i ens endinsa en un viatge a l’edat mitjana: coneixerem la literatura, les llegendes i les xafarderies, instruments dels materials més diversos i la tecnologia per a fer-los, dones trobadores o vigilants de castells. L’activitat inclou la il·lustració en directe d’una llegenda que llegiran els participants i al final es podrà provar de fer sonar algun instrument o objecte sonor. Atenció: Canvi d'horari a l'activitat de la Joglaressa. Es farà a les 6 de la tarda, en comptes de les 4 com estava previst.

URI:https://www.vilatorta.cat/actualitat/agenda/la-joglaressa-taller-dinstruments-medievals-a-sant-julia-de-vilatorta-viu-el-parc-2023.html
CLASS:PUBLIC
END:VEVENT
END:VCALENDAR
