BEGIN:VCALENDAR
VERSION:2.0
CALSCALE:GREGORIAN
PRODID:-//Diputació de Barcelona//DibaCMS//EN
BEGIN:VEVENT
UID:16220
DTSTAMP:20260422T063456
DTSTART:20231118T170000
DTEND:20231118T200000
SUMMARY:Aconseguiràs escapar dels plàstics que ens amenacen?
LOCATION:Avinguda de Sant Llorenç, 80 08504 Sant Julià de Vilatorta
METHOD:PUBLISH
X-WR-CALNAME:sjv.info@vilatorta.cat
X-WR-TIMEZONE:Europe/Madrid
DESCRIPTION:Seguint la filosofia i popularitat dels “escape rooms” es desenvoluparà una senzilla activitat, basada en la idea d’escapar d’una habitació (o espai) en un temps determinat, després de superar una sèrie de proves que estaran contingudes en una caixa (escape box, en aquest cas una maleta o cofre). L’activitat relacionarà la contaminació dels plàstics (en particular els plàstics d’un sol ús i vida útil curta) amb la degradació dels sistemes ecològics, al mateix temps afectant a tot el conjunt de la cadena tròfica, incloent els humans.

URI:https://www.vilatorta.cat/temes/turisme-/aconseguiras-escapar-dels-plastics-que-ens-amenacen.html
CLASS:PUBLIC
END:VEVENT
END:VCALENDAR
