BEGIN:VCALENDAR
VERSION:2.0
CALSCALE:GREGORIAN
PRODID:-//Diputació de Barcelona//DibaCMS//EN
BEGIN:VEVENT
UID:16227
DTSTAMP:20260422T063743
DTSTART:20231219T170000
DTEND:20240102T235500
SUMMARY:Vine a fer de patge a la cavalcada de reis 2024
LOCATION:
METHOD:PUBLISH
X-WR-CALNAME:sjv.info@vilatorta.cat
X-WR-TIMEZONE:Europe/Madrid
DESCRIPTION:Vols participar a la cavalcada de reis de l'Orient i fer de patge en la seva arribada la nit més màgica de l'any? Si tens més de 10 anys, apunta't a fer de patge! Busquem des de patges infantils fins a persones adultes per acompanyar a ses Majestats a la cavalcada. També gent per tocar timbals i tabals per acompanyar la comitiva de Reis. Tots els participants a la cavalcada esteu convidats a un berenar el 20 de gener.

URI:https://www.vilatorta.cat/temes/turisme-/16227-vine-a-fer-de-patge-a-la-cavalcada-de-reis-2024.html
CLASS:PUBLIC
END:VEVENT
END:VCALENDAR
