BEGIN:VCALENDAR
VERSION:2.0
CALSCALE:GREGORIAN
PRODID:-//Diputació de Barcelona//DibaCMS//EN
BEGIN:VEVENT
UID:16236
DTSTAMP:20260422T063654
DTSTART:20231202T100000
DTEND:20231203T140000
SUMMARY:Partits del cap de setmana de futbol 
LOCATION:Carrer de Sant Roc, s/n 08504 Sant Julià de Vilatorta
METHOD:PUBLISH
X-WR-CALNAME:sjv.info@vilatorta.cat
X-WR-TIMEZONE:Europe/Madrid
DESCRIPTION:Podeu consultar els partits de futbol d'aquest cap de setmana.

URI:https://www.vilatorta.cat/actualitat/agenda/partits-del-cap-de-setmana-de-futbol-.html
CLASS:PUBLIC
END:VEVENT
END:VCALENDAR
