BEGIN:VCALENDAR
VERSION:2.0
CALSCALE:GREGORIAN
PRODID:-//Diputació de Barcelona//DibaCMS//EN
BEGIN:VEVENT
UID:16248
DTSTAMP:20260422T063851
DTSTART:20231204T190000
DTEND:20231204T203000
SUMMARY:Ple de l'Ajuntament 
LOCATION:Sala de Plens de l'Ajuntament 
METHOD:PUBLISH
X-WR-CALNAME:sjv.info@vilatorta.cat
X-WR-TIMEZONE:Europe/Madrid
DESCRIPTION:El 4 de desembre hi ha ple, a les 7 de la tarda, a la sala de plens de l'Ajuntament. El podeu seguir pel canal de YouTube de l'Ajuntament.

URI:https://www.vilatorta.cat/actualitat/agenda/ple-de-lajuntament-.html
CLASS:PUBLIC
END:VEVENT
END:VCALENDAR
