BEGIN:VCALENDAR
VERSION:2.0
CALSCALE:GREGORIAN
PRODID:-//Diputació de Barcelona//DibaCMS//EN
BEGIN:VEVENT
UID:16264
DTSTAMP:20260422T091816
DTSTART:20240101T170000
DTEND:20240101T190000
SUMMARY:Patge Reial. Recollida de cartes
LOCATION:Ca l'Anglada 
METHOD:PUBLISH
X-WR-CALNAME:sjv.info@vilatorta.cat
X-WR-TIMEZONE:Europe/Madrid
DESCRIPTION:El dilluns 1 de gener, a les 5 de la tarda, a Ca l’Anglada, el Patge Reial recollirà totes les cartes de la mainada dirigides als Reis de l’Orient.

URI:https://www.vilatorta.cat/actualitat/agenda/patge-reial-recollida-de-cartes.html
CLASS:PUBLIC
END:VEVENT
END:VCALENDAR
