BEGIN:VCALENDAR
VERSION:2.0
CALSCALE:GREGORIAN
PRODID:-//Diputació de Barcelona//DibaCMS//EN
BEGIN:VEVENT
UID:16266
DTSTAMP:20260424T145905
DTSTART:20240105T181500
DTEND:20240105T220000
SUMMARY:Cavalcada de Reis
LOCATION:La comitiva entrarà per la carretera de Vilalleons, l’avinguda de Montserrat, el carrer Núria, la plaça de l’U d’Octubre i el carrer Sant Roc. 
METHOD:PUBLISH
X-WR-CALNAME:sjv.info@vilatorta.cat
X-WR-TIMEZONE:Europe/Madrid
DESCRIPTION:Divendres 5 de gener, a partir d’1 quart de set de la tarda, els Reis de l’orient arribaran a Sant Julià de Vilatorta amb les seves magnífiques carrosses acompanyats d’un nombrós seguici de patges teiers, fanalers, llumeners, estendards, assistents, etc. En cas de pluja els Reis arribaran a les 7 de la tarda al pavelló.

URI:https://www.vilatorta.cat/temes/turisme-/16266-cavalcada-de-reis.html
CLASS:PUBLIC
END:VEVENT
END:VCALENDAR
