BEGIN:VCALENDAR
VERSION:2.0
CALSCALE:GREGORIAN
PRODID:-//Diputació de Barcelona//DibaCMS//EN
BEGIN:VEVENT
UID:16284
DTSTAMP:20260422T074813
DTSTART:20240104T180000
DTEND:20240104T193000
SUMMARY:Visita del Patge Reial a Vilalleons
LOCATION:Antic Ajuntament de Vilalleons 
METHOD:PUBLISH
X-WR-CALNAME:sjv.info@vilatorta.cat
X-WR-TIMEZONE:Europe/Madrid
DESCRIPTION:El dijous dia 4 de gener, de 6 a 2/4 de 8 de la tarda, Marta Cornellas, alcaldessa i Josep Maria Molist, regidor de Vilalleons, seran a l'antic ajuntament per rebre les visites de les veïnes i veïns, però aquesta vegada hi aniran acompanyats del Patge Reial que recollirà les cartes de la mainada de Vilalleons dirigides als Reis de l’Orient.

URI:https://www.vilatorta.cat/temes/turisme-/16284-visita-del-patge-reial-a-vilalleons.html
CLASS:PUBLIC
END:VEVENT
END:VCALENDAR
