BEGIN:VCALENDAR
VERSION:2.0
CALSCALE:GREGORIAN
PRODID:-//Diputació de Barcelona//DibaCMS//EN
BEGIN:VEVENT
UID:16285
DTSTAMP:20260422T080138
DTSTART:20231221T170000
DTEND:20231221T171500
SUMMARY:Convocatòria de sessió plenària extraordinària urgent
LOCATION:Sala de plens de l'Ajuntament 
METHOD:PUBLISH
X-WR-CALNAME:sjv.info@vilatorta.cat
X-WR-TIMEZONE:Europe/Madrid
DESCRIPTION:S’ha convocat sessió plenària extraordinària-urgent per avui  21 de desembre de 2023, a les a les 5 de la tarda, a la sala de plens de l’Ajuntament. Podeu seguir el ple al canal de Youtube de l’Ajuntament.

URI:https://www.vilatorta.cat/actualitat/agenda/convocatoria-de-sessio-plenaria-extraordinaria-urgent.html
CLASS:PUBLIC
END:VEVENT
END:VCALENDAR
