BEGIN:VCALENDAR
VERSION:2.0
CALSCALE:GREGORIAN
PRODID:-//Diputació de Barcelona//DibaCMS//EN
BEGIN:VEVENT
UID:16287
DTSTAMP:20260422T091849
DTSTART:20231229T163000
DTEND:20231229T170000
SUMMARY:Copa de fi d'any al Casal d'avis
LOCATION:C/ Sant Roc, 39 08504 Sant Julià de Vilatorta
METHOD:PUBLISH
X-WR-CALNAME:sjv.info@vilatorta.cat
X-WR-TIMEZONE:Europe/Madrid
DESCRIPTION:Acomiadem l'any amb un concert de la Coral Cants i Rialles i finalitzarem la trobada amb una copa per donar la benvinguda el 2024. Us esperem al Casal!

URI:https://www.vilatorta.cat/temes/turisme-/copa-de-fi-dany-al-casal-davis.html
CLASS:PUBLIC
END:VEVENT
END:VCALENDAR
