BEGIN:VCALENDAR
VERSION:2.0
CALSCALE:GREGORIAN
PRODID:-//Diputació de Barcelona//DibaCMS//EN
BEGIN:VEVENT
UID:16293
DTSTAMP:20260422T081706
DTSTART:20240121T170000
DTEND:20240121T183000
SUMMARY:Teatre al Saló Catalunya
LOCATION:Carrer del Compositor Ramon Victori, 4  08504 Sant Julià de Vilatorta
METHOD:PUBLISH
X-WR-CALNAME:sjv.info@vilatorta.cat
X-WR-TIMEZONE:Europe/Madrid
DESCRIPTION:El casal d'avis Font Noguera presenta el grup de teatre Esplai de la Garriga que representarà la comèdia: "Ves-ten Anton que el que es queda ja es compon!", el diumenge 21 de gener, a les 5 de la tarda al Saló Catalunya. Preu entrades: 5 €. Entrades anticipades a la venda al casal d'avis, els dimarts i dijous, de 4 a 7 de la tarda. També hi haurà entrades a la venda, mitja hora abans de l'espectacle, al Saló Catalunya.

URI:https://www.vilatorta.cat/temes/turisme-/16293-teatre-al-salo-catalunya.html
CLASS:PUBLIC
END:VEVENT
END:VCALENDAR
