BEGIN:VCALENDAR
VERSION:2.0
CALSCALE:GREGORIAN
PRODID:-//Diputació de Barcelona//DibaCMS//EN
BEGIN:VEVENT
UID:16296
DTSTAMP:20260422T081743
DTSTART:20240118T190000
DTEND:20240118T200000
SUMMARY:Reunió de la comunitat energètica de Sant Julià de Vilatorta i Vilalleons
LOCATION:Plaça de l'U d'octubre, núm. 2 08504 Sant Julià de Vilatorta
METHOD:PUBLISH
X-WR-CALNAME:sjv.info@vilatorta.cat
X-WR-TIMEZONE:Europe/Madrid
DESCRIPTION:El dijous 18 de gener, a les 7 de la tarda, a l’Aula de Cultura, reunió de la comunitat energètica de Sant Julià de Vilatorta i Vilalleons. Ja estan en funcionament i han iniciat la primera fase.

URI:https://www.vilatorta.cat/actualitat/agenda/reunio-de-la-comunitat-energetica-de-sant-julia-de-vilatorta-i-vilalleons.html
CLASS:PUBLIC
END:VEVENT
END:VCALENDAR
