BEGIN:VCALENDAR
VERSION:2.0
CALSCALE:GREGORIAN
PRODID:-//Diputació de Barcelona//DibaCMS//EN
BEGIN:VEVENT
UID:16321
DTSTAMP:20260424T114510
DTSTART:20240226T180000
DTEND:20240226T200000
SUMMARY:Parlem de Cinema 
LOCATION:C/ Sant Roc, 39 08504 Sant Julià de Vilatorta
METHOD:PUBLISH
X-WR-CALNAME:sjv.info@vilatorta.cat
X-WR-TIMEZONE:Europe/Madrid
DESCRIPTION:El dilluns 26 de febrer, de 6 a 8 de la tarda, es celebra el cinefòrum "Parlem de cinema", un espai per compartir coneixements i opinions sobre cinema al casal Font Noguera. A càrrec de Miquel Uribe. Les incripcions s'han de fer a l'Ajuntament.

URI:https://www.vilatorta.cat/actualitat/agenda/16321-parlem-de-cinema-.html
CLASS:PUBLIC
END:VEVENT
END:VCALENDAR
