BEGIN:VCALENDAR
VERSION:2.0
CALSCALE:GREGORIAN
PRODID:-//Diputació de Barcelona//DibaCMS//EN
BEGIN:VEVENT
UID:16327
DTSTAMP:20260422T081438
DTSTART:20240209T150000
DTEND:20240209T170000
SUMMARY:Carnestoltes escolar a Sant Julià de Vilatorta i Vilalleons
LOCATION:carrers del poble 
METHOD:PUBLISH
X-WR-CALNAME:sjv.info@vilatorta.cat
X-WR-TIMEZONE:Europe/Madrid
DESCRIPTION:El 9 de febrer arriba el carnestoltes escolar a Sant Julià de Vilatorta i Vilalleons.  A partir de les 3 de la tarda, rua pels carrers del poble i tot seguit judici final al pavelló.

URI:https://www.vilatorta.cat/temes/turisme-/carnestoltes-escolar-a-sant-julia-de-vilatorta-i-vilalleons.html
CLASS:PUBLIC
END:VEVENT
END:VCALENDAR
