BEGIN:VCALENDAR
VERSION:2.0
CALSCALE:GREGORIAN
PRODID:-//Diputació de Barcelona//DibaCMS//EN
BEGIN:VEVENT
UID:16331
DTSTAMP:20260422T094621
DTSTART:20240202T103000
DTEND:20240202T120000
SUMMARY:Exhibició de balls en línia
LOCATION:Avinguda de Sant Llorenç, 80 08504 Sant Julià de Vilatorta
METHOD:PUBLISH
X-WR-CALNAME:sjv.info@vilatorta.cat
X-WR-TIMEZONE:Europe/Madrid
DESCRIPTION:Aquest divendres 2 de febrer, a partir de 2/4 d'11 del matí, al pavelló esportiu municipal, l'Espai Activa't organitza una exhibició de balls en línia, a càrrec del grup autònom de balls en línia. Activitat gratuïta i oberta a tothom.

URI:https://www.vilatorta.cat/actualitat/agenda/exhibicio-de-balls-en-linia.html
CLASS:PUBLIC
END:VEVENT
END:VCALENDAR
