BEGIN:VCALENDAR
VERSION:2.0
CALSCALE:GREGORIAN
PRODID:-//Diputació de Barcelona//DibaCMS//EN
BEGIN:VEVENT
UID:16337
DTSTAMP:20260422T081242
DTSTART:20240208T190000
DTEND:20240208T200000
SUMMARY:Presentació de “Haikus, Sota el mateix sol”, el nou llibre de Joan Anton Mencos
LOCATION:Plaça de l'U d'octubre, núm. 2 08504 Sant Julià de Vilatorta
METHOD:PUBLISH
X-WR-CALNAME:sjv.info@vilatorta.cat
X-WR-TIMEZONE:Europe/Madrid
DESCRIPTION:El dijous 8 de febrer, a les 7 de la tarda, a l’Aula de Cultura, es  presentarà el nou llibre del vilatortí Joan Antoni Mencos: “Haikus, Sota el mateix sol”, a càrrec de l’editora, Marta Forment i amb la presència de l’autor, del filòleg, del filòleg, Joan Gimeno i del regidor de cultura, Josep Maria Molist.

URI:https://www.vilatorta.cat/actualitat/agenda/presentacio-de-haikus-sota-el-mateix-sol-el-nou-llibre-de-joan-anton-mencos.html
CLASS:PUBLIC
END:VEVENT
END:VCALENDAR
