BEGIN:VCALENDAR
VERSION:2.0
CALSCALE:GREGORIAN
PRODID:-//Diputació de Barcelona//DibaCMS//EN
BEGIN:VEVENT
UID:16346
DTSTAMP:20260422T081323
DTSTART:20240223T193000
DTEND:20240223T204500
SUMMARY:Pel·lícula Upon Entry del Cicle Gaudí 
LOCATION:Carrer del Compositor Ramon Victori, 4  08504 Sant Julià de Vilatorta
METHOD:PUBLISH
X-WR-CALNAME:sjv.info@vilatorta.cat
X-WR-TIMEZONE:Europe/Madrid
DESCRIPTION:El divendres 23 de febrer, a 2/4 de 8 del vespre, es projecta la pel·lícula Upon Entry. L'activitat forma part del Cicle Gaudí. Servei de canguratge gratuït de 3 a 12 anys. Recull la invitació als comerços del poble! 

URI:https://www.vilatorta.cat/temes/turisme-/pellicula-upon-entry-del-cicle-gaudi-.html
CLASS:PUBLIC
END:VEVENT
END:VCALENDAR
