BEGIN:VCALENDAR
VERSION:2.0
CALSCALE:GREGORIAN
PRODID:-//Diputació de Barcelona//DibaCMS//EN
BEGIN:VEVENT
UID:16351
DTSTAMP:20260424T113718
DTSTART:20240512T104500
DTEND:20240512T113500
SUMMARY:Concert a l’església de Vilalleons: “Música optimista”
LOCATION:Església de Vilalleons 
METHOD:PUBLISH
X-WR-CALNAME:sjv.info@vilatorta.cat
X-WR-TIMEZONE:Europe/Madrid
DESCRIPTION:El diumenge, 12 de maig, després de la missa de 10, a 3/4 d'11, es farà un concert a l’església de Santa Maria de Vilalleons. És un recull de composicions pròpies per a piano a càrrec de Frederic Dalmau Romeu.

URI:https://www.vilatorta.cat/temes/turisme-/concert-a-lesglesia-de-vilalleons-musica-optimista.html
CLASS:PUBLIC
END:VEVENT
END:VCALENDAR
