BEGIN:VCALENDAR
VERSION:2.0
CALSCALE:GREGORIAN
PRODID:-//Diputació de Barcelona//DibaCMS//EN
BEGIN:VEVENT
UID:16359
DTSTAMP:20260422T091931
DTSTART:20240308T180000
DTEND:20240308T193000
SUMMARY:Escape Vilatorta
LOCATION:plaça de Catalunya 
METHOD:PUBLISH
X-WR-CALNAME:sjv.info@vilatorta.cat
X-WR-TIMEZONE:Europe/Madrid
DESCRIPTION:El divendres 8 de març, a les 6 de la tarda, amb l’escape Vilatorta, passejaràs pels carrers de Sant Julià de Vilatorta a través d’un joc de pistes. La finalitat és aconseguir pintar un mural feminista. Fes grups de 3 a 5 persones i truca a l'Ajuntament per fer la teva reserva. Activitat gratuïta i oberta a tots els públics: quitxalla, joventut, famílies, grups d’amics/amigues, gent gran, en suport a la Igualtat.

URI:https://www.vilatorta.cat/temes/turisme-/escape-vilatorta.html
CLASS:PUBLIC
END:VEVENT
END:VCALENDAR
