BEGIN:VCALENDAR
VERSION:2.0
CALSCALE:GREGORIAN
PRODID:-//Diputació de Barcelona//DibaCMS//EN
BEGIN:VEVENT
UID:16372
DTSTAMP:20260422T094421
DTSTART:20240227T170000
DTEND:20240227T180000
SUMMARY:Vine a veure l’obra de teatre: “Museu M T.I.”
LOCATION:Carrer del Compositor Ramon Victori, 4  08504 Sant Julià de Vilatorta
METHOD:PUBLISH
X-WR-CALNAME:sjv.info@vilatorta.cat
X-WR-TIMEZONE:Europe/Madrid
DESCRIPTION:Dimarts 27 de febrer del 2024, a les 5 de la tarda, al Saló Catalunya, vine a veure l’obra de teatre: “Museu M T.I.”,  a càrrec del Grup de Teatre de l’Espai Activa’t de Montesquiu, sota la direcció de l’Elisabet Camprubí. Activitat gratuïta i oberta a tothom.

URI:https://www.vilatorta.cat/temes/turisme-/vine-a-veure-lobra-de-teatre-museu-m-ti.html
CLASS:PUBLIC
END:VEVENT
END:VCALENDAR
