BEGIN:VCALENDAR
VERSION:2.0
CALSCALE:GREGORIAN
PRODID:-//Diputació de Barcelona//DibaCMS//EN
BEGIN:VEVENT
UID:16386
DTSTAMP:20260422T092014
DTSTART:20240310T173000
DTEND:20240310T184500
SUMMARY:Cinema al Saló Catalunya "Wonka"
LOCATION:Carrer del Compositor Ramon Victori, 4  08504 Sant Julià de Vilatorta
METHOD:PUBLISH
X-WR-CALNAME:sjv.info@vilatorta.cat
X-WR-TIMEZONE:Europe/Madrid
DESCRIPTION:El diumenge 10 de març, a 2/4 de 6 de la tarda, al Saló Catalunya, sessió de cinema amb la projecció de la pel·lícula "Wonka". Organitzat pel Punt Jove Tortí. Preu de l'entrada: 2 euros.

URI:https://www.vilatorta.cat/temes/turisme-/cinema-al-salo-catalunya-wonka.html
CLASS:PUBLIC
END:VEVENT
END:VCALENDAR
