BEGIN:VCALENDAR
VERSION:2.0
CALSCALE:GREGORIAN
PRODID:-//Diputació de Barcelona//DibaCMS//EN
BEGIN:VEVENT
UID:16388
DTSTAMP:20260422T093849
DTSTART:20240324T100000
DTEND:20240324T130000
SUMMARY:Què diuen els ocells?
LOCATION:Aparcament del pont del Vent 
METHOD:PUBLISH
X-WR-CALNAME:sjv.info@vilatorta.cat
X-WR-TIMEZONE:Europe/Madrid
DESCRIPTION:En aquesta passejada, observarem els ocells de l’Espai Natural mentre llegim textos i poemes de Jacint Verdaguer que ens duran a conèixer les característiques de l’ocell i com la tradició popular n’ha recollit els sons. Activitat organitzada per la Casa Museu Verdaguer i l’Institut Català d’Ornitologia en una visita conduïda per Jordina Boix, directora de la Fundació Jacint Verdaguer, i Jordi Baucells, vicepresident de l’Institut Català d’Ornitologia.

URI:https://www.vilatorta.cat/actualitat/agenda/que-diuen-els-ocells.html
CLASS:PUBLIC
END:VEVENT
END:VCALENDAR
