BEGIN:VCALENDAR
VERSION:2.0
CALSCALE:GREGORIAN
PRODID:-//Diputació de Barcelona//DibaCMS//EN
BEGIN:VEVENT
UID:16399
DTSTAMP:20260422T092002
DTSTART:20240313T183000
DTEND:20240313T200000
SUMMARY:Xerrada informativa dels ajuts pel pagament del lloguer o cessió d’ús a joves de 35 anys o menys
LOCATION:l’Oficina Jove d’Osona / Vicjove
Carrer Bisbe Morgades, 15, Vic.  
METHOD:PUBLISH
X-WR-CALNAME:sjv.info@vilatorta.cat
X-WR-TIMEZONE:Europe/Madrid
DESCRIPTION:Ja s’ha publicat la convocatòria de subvencions pel pagament del lloguer o cessió d’ús o habitació per a l’any 2024 per a persones que tinguin 35 anys o menys. En relació amb aquesta subvenció, l’Oficina Jove d’Osona organitza una xerrada on s’informarà sobre els ajuts per l’habitatge, el dimecres 13 de març, a les 18:30 h a l’Oficina Jove d’Osona / Vicjove. Carrer Bisbe Morgades, 15, Vic.

URI:https://www.vilatorta.cat/actualitat/agenda/xerrada-informativa-dels-ajuts-pel-pagament-del-lloguer-o-cessio-dus-a-joves-de-35-anys-o-menys.html
CLASS:PUBLIC
END:VEVENT
END:VCALENDAR
