BEGIN:VCALENDAR
VERSION:2.0
CALSCALE:GREGORIAN
PRODID:-//Diputació de Barcelona//DibaCMS//EN
BEGIN:VEVENT
UID:16400
DTSTAMP:20260422T093252
DTSTART:20240317T180000
DTEND:20240317T200000
SUMMARY:Mostra de Cinema Juvenil
LOCATION:Carrer del Compositor Ramon Victori, 4  08504 Sant Julià de Vilatorta
METHOD:PUBLISH
X-WR-CALNAME:sjv.info@vilatorta.cat
X-WR-TIMEZONE:Europe/Madrid
DESCRIPTION:El diumenge 17 de març, de les 6 de la tarda a les 8 del vespre, el Saló Catalunya obre les portes per acollir la Mostra de Cinema Juvenil. Visiteu el lloc web https://mostracinejuvenil.webnode.es/ per a més detalls i per reservar les vostres entrades. Us hi esperem! 

URI:https://www.vilatorta.cat/temes/turisme-/mostra-de-cinema-juvenil.html
CLASS:PUBLIC
END:VEVENT
END:VCALENDAR
