BEGIN:VCALENDAR
VERSION:2.0
CALSCALE:GREGORIAN
PRODID:-//Diputació de Barcelona//DibaCMS//EN
BEGIN:VEVENT
UID:16413
DTSTAMP:20260422T091723
DTSTART:20240322T180000
DTEND:20240322T193000
SUMMARY:Taula rodona "Música per a la transformació Social"
LOCATION:Vic Jove
C/ Del Bisbe Morgades, 15
Vic 
METHOD:PUBLISH
X-WR-CALNAME:sjv.info@vilatorta.cat
X-WR-TIMEZONE:Europe/Madrid
DESCRIPTION:El divendres 22 de març, a les 6 de la tarda, al Vic Jove, taula rodona “Música per a la transformació Social” i acústic d'Alex Pérez. La música és una via per la qual molts artistes canalitzen inquietuds socials i generen una consciència crítica envers tot allò que ens envolta i ens preocupa socialment.

URI:https://www.vilatorta.cat/actualitat/agenda/taula-rodona-musica-per-a-la-transformacio-social.html
CLASS:PUBLIC
END:VEVENT
END:VCALENDAR
