BEGIN:VCALENDAR
VERSION:2.0
CALSCALE:GREGORIAN
PRODID:-//Diputació de Barcelona//DibaCMS//EN
BEGIN:VEVENT
UID:16417
DTSTAMP:20260422T093623
DTSTART:20240325T190000
DTEND:20240325T200000
SUMMARY:Ple extraordinari de 25 de març de 2024
LOCATION:
METHOD:PUBLISH
X-WR-CALNAME:sjv.info@vilatorta.cat
X-WR-TIMEZONE:Europe/Madrid
DESCRIPTION:Convocada sessió plenària extraordinària el dilluns 25 de març, a les 7 de la tarda. Segueix el Ple en directe per mitjà del canal de Youtube de l'Ajuntament de Sant Julià de Vilatorta i Vilalleons. Consulta l'ordre del dia en el document adjunt.

URI:https://www.vilatorta.cat/actualitat/agenda/ple-extraordinari-de-25-de-marc-de-2024.html
CLASS:PUBLIC
END:VEVENT
END:VCALENDAR
