BEGIN:VCALENDAR
VERSION:2.0
CALSCALE:GREGORIAN
PRODID:-//Diputació de Barcelona//DibaCMS//EN
BEGIN:VEVENT
UID:16425
DTSTAMP:20260422T094354
DTSTART:20240331T090000
DTEND:20240331T130000
SUMMARY:Diada de Pasqua Florida - Les Caramelles del Roser 
LOCATION:diversos carrers del poble 
METHOD:PUBLISH
X-WR-CALNAME:sjv.info@vilatorta.cat
X-WR-TIMEZONE:Europe/Madrid
DESCRIPTION:Enguany, les Caramelles del Roser recuperen diverses peces del seu repertori: “Terra Endins”, “Himne dels caramellaires”, “Quatre-cents anys”, “Bordó Florit”, “Som Caramellaires” i “Cançó del Terrissaire”. Són peces amb músiques de Santi Riera, Manel Rodríguez i David Rodríguez, i lletres d'Anton Carrera, Núria Dalmases i Xevi Pona. També s’estrena la instrumentació que ha creat Sebastià Bardolet per a la caramella tan coneguda i celebrada pels vilatortins com és “Rosa Vera”. Aquesta sardana, que té motius inspirats en els Goigs del Roser, la va compondre Manel Balasch, Anton Carrera hi va posar la lletra i Santi Riera la va harmonitzar per a tres veus. Es va estrenar el 1995 i tradicionalment s’ha cantat amb acompanyament de contrabaix i acordió, tot i que l’any 2021 es va poder escoltar una versió instrumental en el concert “Caramelles a so de cobla”, a càrrec de la Cobla Vilatorta. Enguany la interpretació de veu prendrà tot un altre aire gràcies a aquesta nova instrumentació per a instruments de vent.

URI:https://www.vilatorta.cat/temes/turisme-/diada-de-pasqua-florida-les-caramelles-del-roser-.html
CLASS:PUBLIC
END:VEVENT
END:VCALENDAR
