BEGIN:VCALENDAR
VERSION:2.0
CALSCALE:GREGORIAN
PRODID:-//Diputació de Barcelona//DibaCMS//EN
BEGIN:VEVENT
UID:16426
DTSTAMP:20260422T093825
DTSTART:20240407T100000
DTEND:20240407T140000
SUMMARY:45è Aplec Caramellaire - 7 d’abril de 2024
LOCATION:Diversos carrers del poble i plaça Major 
METHOD:PUBLISH
X-WR-CALNAME:sjv.info@vilatorta.cat
X-WR-TIMEZONE:Europe/Madrid
DESCRIPTION:La plaça Major acollirà l’acte central del 45è Aplec Caramellaire en el que hi participaran set colles d’arreu del país i de la Catalunya Nord, amb un repertori molt ampli i variat de caramelles. S’interpretaran peces com ara “Au fadrins que és jorn de festa”, “Benvinguda primavera” i “Ja ha arribat Pasqua Florida”, entre d’altres.

URI:https://www.vilatorta.cat/temes/turisme-/16426-45e-aplec-caramellaire-7-dabril-de-2024.html
CLASS:PUBLIC
END:VEVENT
END:VCALENDAR
