BEGIN:VCALENDAR
VERSION:2.0
CALSCALE:GREGORIAN
PRODID:-//Diputació de Barcelona//DibaCMS//EN
BEGIN:VEVENT
UID:16432
DTSTAMP:20260422T094230
DTSTART:20240409T180000
DTEND:20240409T190000
SUMMARY:El Club de lectura amb Espartac Peran
LOCATION:Plaça de l'U d'octubre, núm. 2 08504 Sant Julià de Vilatorta
METHOD:PUBLISH
X-WR-CALNAME:sjv.info@vilatorta.cat
X-WR-TIMEZONE:Europe/Madrid
DESCRIPTION:El dimarts 9 d’abril, a les 6 de la tarda a l’Aula de Cultura, el club de lectura de Sant Julià de Vilatorta i Vilalleons ha organitzat una conversa amb l’escriptor Espartac Peran que ens parlarà del llibre Tres desitjos abans de morir. De la mort, el dol i la vida. 

URI:https://www.vilatorta.cat/actualitat/agenda/el-club-de-lectura-amb-espartac-peran.html
CLASS:PUBLIC
END:VEVENT
END:VCALENDAR
