BEGIN:VCALENDAR
VERSION:2.0
CALSCALE:GREGORIAN
PRODID:-//Diputació de Barcelona//DibaCMS//EN
BEGIN:VEVENT
UID:16436
DTSTAMP:20260424T102315
DTSTART:20240415T190000
DTEND:20240415T193000
SUMMARY:Ple de dilluns 15 d'abril
LOCATION:Sala de plens de l'Ajuntament 
METHOD:PUBLISH
X-WR-CALNAME:sjv.info@vilatorta.cat
X-WR-TIMEZONE:Europe/Madrid
DESCRIPTION:El proper dilluns, 15 d’abril de 2024, a les 7 de la tarda, s’ha convocat sessió plenària extraordinària. Es farà el sorteig dels membres de les meses per a les eleccions al parlament de Catalunya del 12 de maig.

URI:https://www.vilatorta.cat/actualitat/agenda/ple-de-dilluns-15-dabril.html
CLASS:PUBLIC
END:VEVENT
END:VCALENDAR
