BEGIN:VCALENDAR
VERSION:2.0
CALSCALE:GREGORIAN
PRODID:-//Diputació de Barcelona//DibaCMS//EN
BEGIN:VEVENT
UID:16454
DTSTAMP:20260424T101947
DTSTART:20240421T110000
DTEND:20240421T130000
SUMMARY:Caminada benèfica
LOCATION:plaça de Catalunya 
METHOD:PUBLISH
X-WR-CALNAME:sjv.info@vilatorta.cat
X-WR-TIMEZONE:Europe/Madrid
DESCRIPTION:Diumenge 21 d'abril, caminada benèfica a Sant Julià de Vilatorta. Cal fer una donació de 5 €. Els diners es donaran a pallassos sense fronteres. Us podeu inscriure a través del codi QR que trobareu al cartell o el mateix dia de la caminada de 10 a 11 del matí. 

URI:https://www.vilatorta.cat/actualitat/agenda/caminada-benefica.html
CLASS:PUBLIC
END:VEVENT
END:VCALENDAR
