BEGIN:VCALENDAR
VERSION:2.0
CALSCALE:GREGORIAN
PRODID:-//Diputació de Barcelona//DibaCMS//EN
BEGIN:VEVENT
UID:16470
DTSTAMP:20260424T115217
DTSTART:20240511T160000
DTEND:20240511T210000
SUMMARY:40è aniversari d'en Pàmfil i l’Elisenda
LOCATION:Zona esportiva 
METHOD:PUBLISH
X-WR-CALNAME:sjv.info@vilatorta.cat
X-WR-TIMEZONE:Europe/Madrid
DESCRIPTION:El dissabte 11 de maig celebrarem el 40 anys dels nostres gegants i per això volem convidar a tota la població de Sant Julià de Vilatorta i Vilalleons a la commemoració.

URI:https://www.vilatorta.cat/temes/turisme-/16470-40e-aniversari-den-pamfil-i-lelisenda.html
CLASS:PUBLIC
END:VEVENT
END:VCALENDAR
