BEGIN:VCALENDAR
VERSION:2.0
CALSCALE:GREGORIAN
PRODID:-//Diputació de Barcelona//DibaCMS//EN
BEGIN:VEVENT
UID:16495
DTSTAMP:20260424T132418
DTSTART:20240601T100000
DTEND:20240601T200000
SUMMARY:Exposició: "Foc al batan!". Keràmik 2024
LOCATION:Avinguda de Sant Llorenç, 80 08504 Sant Julià de Vilatorta
METHOD:PUBLISH
X-WR-CALNAME:sjv.info@vilatorta.cat
X-WR-TIMEZONE:Europe/Madrid
DESCRIPTION:El dissabte 1 de juny, de 10 a 14h i de 16 a 20h, al punt d'informació del parc de les Set Fonts, vine a veure l'exposició: "Foc al batan", dels ceramistes Pep Madrenas i Jan Madrenas.

URI:https://www.vilatorta.cat/actualitat/agenda/exposicio-foc-al-batan-keramik-2024.html
CLASS:PUBLIC
END:VEVENT
END:VCALENDAR
