BEGIN:VCALENDAR
VERSION:2.0
CALSCALE:GREGORIAN
PRODID:-//Diputació de Barcelona//DibaCMS//EN
BEGIN:VEVENT
UID:16504
DTSTAMP:20260424T132632
DTSTART:20240513T190000
DTEND:20240513T193000
SUMMARY:Ple extraordinari de 13 de maig de 2024
LOCATION:sala de plens de l'Ajuntament 
METHOD:PUBLISH
X-WR-CALNAME:sjv.info@vilatorta.cat
X-WR-TIMEZONE:Europe/Madrid
DESCRIPTION:El dilluns 13 de maig, convocatòria de ple extraordinari, a les 7 de la tada, a la sala de plens de l'Ajuntament. L'ordre del dia és el sorteig dels membres de mesa per a les eleccions al Parlament Europeu del 9 de juny de 2024.

 

URI:https://www.vilatorta.cat/actualitat/agenda/ple-extraordinari-de-13-de-maig-de-2024.html
CLASS:PUBLIC
END:VEVENT
END:VCALENDAR
