BEGIN:VCALENDAR
VERSION:2.0
CALSCALE:GREGORIAN
PRODID:-//Diputació de Barcelona//DibaCMS//EN
BEGIN:VEVENT
UID:16522
DTSTAMP:20260424T163333
DTSTART:20240530T183000
DTEND:20240530T191500
SUMMARY:Xerrada adreçada a adolescents i famílies
LOCATION:sala de conferències del pavelló 
METHOD:PUBLISH
X-WR-CALNAME:sjv.info@vilatorta.cat
X-WR-TIMEZONE:Europe/Madrid
DESCRIPTION:El dijous 30 de maig, a les 18:30 hores, a la sala de conferències del pavelló, es farà una xerrada: “No sé què fer? Què puc fer?”, a càrrec de Xavier Arranz Albó, Doctor en educació i psicopedagog i exprofessor de la Universitat de Michigan.

URI:https://www.vilatorta.cat/actualitat/agenda/xerrada-adrecada-a-adolescents-i-families.html
CLASS:PUBLIC
END:VEVENT
END:VCALENDAR
