BEGIN:VCALENDAR
VERSION:2.0
CALSCALE:GREGORIAN
PRODID:-//Diputació de Barcelona//DibaCMS//EN
BEGIN:VEVENT
UID:16652
DTSTAMP:20260421T110632
DTSTART:20240901T180000
DTEND:20240901T200000
SUMMARY:Partit pretemporada Club Joventut Badalona- València Bàsquet
LOCATION:Avinguda de Sant Llorenç, 80 08504 Sant Julià de Vilatorta
METHOD:PUBLISH
X-WR-CALNAME:sjv.info@vilatorta.cat
X-WR-TIMEZONE:Europe/Madrid
DESCRIPTION:El diumenge 1 de setembre, a les 6 de la tarda, al pavelló esportiu municipal, partit de pretemporada entre el Club Joventut Badalona i el València Bàsquet. Venda anticipada aquí . Preu: 10€. 

URI:https://www.vilatorta.cat/actualitat/agenda/partit-pretemporada-club-joventut-badalona-valencia-basquet.html
CLASS:PUBLIC
END:VEVENT
END:VCALENDAR
