BEGIN:VCALENDAR
VERSION:2.0
CALSCALE:GREGORIAN
PRODID:-//Diputació de Barcelona//DibaCMS//EN
BEGIN:VEVENT
UID:16655
DTSTAMP:20260420T042458
DTSTART:20260422T083000
DTEND:20260422T083000
SUMMARY:Els dimecres vine a caminar amb el grup "anar-hi anant"
LOCATION:
METHOD:PUBLISH
X-WR-CALNAME:sjv.info@vilatorta.cat
X-WR-TIMEZONE:Europe/Madrid
DESCRIPTION:Els dimecres, a 2/4 de 9 del matí, vine a caminar amb el grup "anar-hi anant". Una iniciativa particular, coordinada per en Joan Morera i en Ramon Cunill, fan caminades curtes per conèixer l'entorn del nostre poble.

URI:https://www.vilatorta.cat/actualitat/agenda/16655-els-dimecres-vine-a-caminar-amb-el-grup-anar-hi-anant.html
CLASS:PUBLIC
END:VEVENT
END:VCALENDAR
