BEGIN:VCALENDAR
VERSION:2.0
CALSCALE:GREGORIAN
PRODID:-//Diputació de Barcelona//DibaCMS//EN
BEGIN:VEVENT
UID:16671
DTSTAMP:20260424T132433
DTSTART:20240923T190000
DTEND:20240923T200000
SUMMARY:Ple extraordinari dilluns 23 de setembre
LOCATION:Sala de plens de l'Ajuntament 
METHOD:PUBLISH
X-WR-CALNAME:sjv.info@vilatorta.cat
X-WR-TIMEZONE:Europe/Madrid
DESCRIPTION:El dilluns 23 de setembre hi ha ple extraordinari, a les 7 de la tarda, a la sala de plens de l'Ajuntament. El podeu seguir pel canal de YouTube de l'Ajuntament.

URI:https://www.vilatorta.cat/actualitat/agenda/ple-extraordinari-dilluns-23-de-setembre.html
CLASS:PUBLIC
END:VEVENT
END:VCALENDAR
