BEGIN:VCALENDAR
VERSION:2.0
CALSCALE:GREGORIAN
PRODID:-//Diputació de Barcelona//DibaCMS//EN
BEGIN:VEVENT
UID:16677
DTSTAMP:20260424T163103
DTSTART:20241011T173000
DTEND:20241011T190000
SUMMARY:Esport amb Valors
LOCATION:
METHOD:PUBLISH
X-WR-CALNAME:sjv.info@vilatorta.cat
X-WR-TIMEZONE:Europe/Madrid
DESCRIPTION:L'activitat coordinada per l'Associació EVAL, es fa cada divendres de 2/4 de 6 a les 7 de la tarda a la pista Poliesportiva del Carrer de Sant Roc.

URI:https://www.vilatorta.cat/actualitat/agenda/esport-amb-valors.html
CLASS:PUBLIC
END:VEVENT
END:VCALENDAR
