BEGIN:VCALENDAR
VERSION:2.0
CALSCALE:GREGORIAN
PRODID:-//Diputació de Barcelona//DibaCMS//EN
BEGIN:VEVENT
UID:16740
DTSTAMP:20260422T075627
DTSTART:20241019T120000
DTEND:20241019T130000
SUMMARY:Poesia als parcs. Espai Natural de les Guilleries-Savassona
LOCATION:Pati de la Casa Museu Verdaguer
Folgueroles
 
METHOD:PUBLISH
X-WR-CALNAME:sjv.info@vilatorta.cat
X-WR-TIMEZONE:Europe/Madrid
DESCRIPTION:Recital poètic a càrrec de Raquel Santanera amb acompanyament musical de Coloma Bertran. Aquest acte comptarà amb interpretació en LSC.

URI:https://www.vilatorta.cat/actualitat/agenda/16740-poesia-als-parcs-espai-natural-de-les-guilleries-savassona.html
CLASS:PUBLIC
END:VEVENT
END:VCALENDAR
