BEGIN:VCALENDAR
VERSION:2.0
CALSCALE:GREGORIAN
PRODID:-//Diputació de Barcelona//DibaCMS//EN
BEGIN:VEVENT
UID:16794
DTSTAMP:20260424T163134
DTSTART:20241201T100000
DTEND:20241201T140000
SUMMARY:Busca i fes el teu Tió
LOCATION:Carrer del Compositor Ramon Victori, 4  08504 Sant Julià de Vilatorta
METHOD:PUBLISH
X-WR-CALNAME:sjv.info@vilatorta.cat
X-WR-TIMEZONE:Europe/Madrid
DESCRIPTION:Un any més comencem amb els preparatius de les festes de Nadal i què millor que iniciar aquestes festes amb la recerca del tió! El dia 1 de desembre fem una activitat en família que consisteix a trobar totes les peces que formen un tió i seguidament muntar-lo. El punt de sortida i arribada serà el saló Catalunya, a partir de les 10 del matí, on us donarem les instruccions i les pistes per arribar als amagatalls. El preu de l’activitat és de 5 euros.

URI:https://www.vilatorta.cat/temes/turisme-/busca-i-fes-el-teu-tio.html
CLASS:PUBLIC
END:VEVENT
END:VCALENDAR
