BEGIN:VCALENDAR
VERSION:2.0
CALSCALE:GREGORIAN
PRODID:-//Diputació de Barcelona//DibaCMS//EN
BEGIN:VEVENT
UID:17387
DTSTAMP:20260426T002807
DTSTART:20251101T110000
DTEND:20251101T130000
SUMMARY:El cementiri municipal acollirà música en viu per Tots Sants
LOCATION:08504 Sant Julià de Vilatorta
METHOD:PUBLISH
X-WR-CALNAME:sjv.info@vilatorta.cat
X-WR-TIMEZONE:Europe/Madrid
DESCRIPTION:Com ja és tradició, l’1 de novembre, Dia de Tots Sants, el cementiri municipal tornarà a ser escenari d’un acte de commemoració molt especial. Un any més, entre les 11 del matí i la 1 del migdia, les persones que visitin el cementiri podran gaudir d’un ambient serè i acollidor amenitzat amb música en viu.

URI:https://www.vilatorta.cat/actualitat/agenda/17387-el-cementiri-municipal-acollira-musica-en-viu-per-tots-sants.html
CLASS:PUBLIC
END:VEVENT
END:VCALENDAR
